BEGIN:VCALENDAR
VERSION:2.0
PRODID:-//Green Gospel Assembly Church - ECPv6.3.1//NONSGML v1.0//EN
CALSCALE:GREGORIAN
METHOD:PUBLISH
X-WR-CALNAME:Green Gospel Assembly Church
X-ORIGINAL-URL:https://greengospelassembly.com
X-WR-CALDESC:Events for Green Gospel Assembly Church
REFRESH-INTERVAL;VALUE=DURATION:PT1H
X-Robots-Tag:noindex
X-PUBLISHED-TTL:PT1H
BEGIN:VTIMEZONE
TZID:America/Detroit
BEGIN:DAYLIGHT
TZOFFSETFROM:-0500
TZOFFSETTO:-0400
TZNAME:EDT
DTSTART:20250309T070000
END:DAYLIGHT
BEGIN:STANDARD
TZOFFSETFROM:-0400
TZOFFSETTO:-0500
TZNAME:EST
DTSTART:20251102T060000
END:STANDARD
END:VTIMEZONE
BEGIN:VEVENT
DTSTART;VALUE=DATE:20250909
DTEND;VALUE=DATE:20250913
DTSTAMP:20260423T110303
CREATED:20250327T144116Z
LAST-MODIFIED:20250327T144116Z
UID:10001942-1757376000-1757721599@greengospelassembly.com
SUMMARY:Brooklyn\, New York GENERAL MEETING / JUBILEE
DESCRIPTION:Brooklyn\, New York GENERAL MEETING / JUBILEE
URL:https://greengospelassembly.com/event/brooklyn-new-york-general-meeting-jubilee/
LOCATION:OH
END:VEVENT
BEGIN:VEVENT
DTSTART;TZID=America/Detroit:20250910T193000
DTEND;TZID=America/Detroit:20250910T213000
DTSTAMP:20260423T110303
CREATED:20231214T132200Z
LAST-MODIFIED:20231214T140623Z
UID:10000093-1757532600-1757539800@greengospelassembly.com
SUMMARY:Wednesday Evening Service
DESCRIPTION:Wednesday Evening Service
URL:https://greengospelassembly.com/event/wednesday-evening-service/2025-09-10/
LOCATION:Gospel Assembly Church\, 2535 Wise Rd.\, North Canton\, OH\, 44720\, United States
END:VEVENT
END:VCALENDAR