BEGIN:VCALENDAR
VERSION:2.0
PRODID:-//Green Gospel Assembly Church - ECPv6.3.1//NONSGML v1.0//EN
CALSCALE:GREGORIAN
METHOD:PUBLISH
X-ORIGINAL-URL:https://greengospelassembly.com
X-WR-CALDESC:Events for Green Gospel Assembly Church
REFRESH-INTERVAL;VALUE=DURATION:PT1H
X-Robots-Tag:noindex
X-PUBLISHED-TTL:PT1H
BEGIN:VTIMEZONE
TZID:America/Detroit
BEGIN:DAYLIGHT
TZOFFSETFROM:-0500
TZOFFSETTO:-0400
TZNAME:EDT
DTSTART:20250309T070000
END:DAYLIGHT
BEGIN:STANDARD
TZOFFSETFROM:-0400
TZOFFSETTO:-0500
TZNAME:EST
DTSTART:20251102T060000
END:STANDARD
END:VTIMEZONE
BEGIN:VEVENT
DTSTART;VALUE=DATE:20251202
DTEND;VALUE=DATE:20251205
DTSTAMP:20260423T140521
CREATED:20250327T144913Z
LAST-MODIFIED:20250327T144913Z
UID:10001948-1764633600-1764892799@greengospelassembly.com
SUMMARY:Louisville\, Kentucky REGIONAL MINISTERS' MEETING
DESCRIPTION:Louisville\, Kentucky REGIONAL MINISTERS’ MEETING
URL:https://greengospelassembly.com/event/louisville-kentucky-regional-ministers-meeting/
LOCATION:Louisville Christian Assembly Church\, 9020 Stonestreet Rd\, Louisville\, KY\, United States
END:VEVENT
END:VCALENDAR