BEGIN:VCALENDAR
VERSION:2.0
PRODID:-//Green Gospel Assembly Church - ECPv6.3.1//NONSGML v1.0//EN
CALSCALE:GREGORIAN
METHOD:PUBLISH
X-ORIGINAL-URL:https://greengospelassembly.com
X-WR-CALDESC:Events for Green Gospel Assembly Church
REFRESH-INTERVAL;VALUE=DURATION:PT1H
X-Robots-Tag:noindex
X-PUBLISHED-TTL:PT1H
BEGIN:VTIMEZONE
TZID:America/Detroit
BEGIN:DAYLIGHT
TZOFFSETFROM:-0500
TZOFFSETTO:-0400
TZNAME:EDT
DTSTART:20280312T070000
END:DAYLIGHT
BEGIN:STANDARD
TZOFFSETFROM:-0400
TZOFFSETTO:-0500
TZNAME:EST
DTSTART:20281105T060000
END:STANDARD
BEGIN:DAYLIGHT
TZOFFSETFROM:-0500
TZOFFSETTO:-0400
TZNAME:EDT
DTSTART:20290311T070000
END:DAYLIGHT
BEGIN:STANDARD
TZOFFSETFROM:-0400
TZOFFSETTO:-0500
TZNAME:EST
DTSTART:20291104T060000
END:STANDARD
BEGIN:DAYLIGHT
TZOFFSETFROM:-0500
TZOFFSETTO:-0400
TZNAME:EDT
DTSTART:20300310T070000
END:DAYLIGHT
BEGIN:STANDARD
TZOFFSETFROM:-0400
TZOFFSETTO:-0500
TZNAME:EST
DTSTART:20301103T060000
END:STANDARD
END:VTIMEZONE
BEGIN:VEVENT
DTSTART;TZID=America/Detroit:20280520T130000
DTEND;TZID=America/Detroit:20280520T150000
DTSTAMP:20260420T053720
CREATED:20231214T143601Z
LAST-MODIFIED:20231214T143601Z
UID:10001532-1842440400-1842447600@greengospelassembly.com
SUMMARY:Precious Gems
DESCRIPTION:Precious Gems
URL:https://greengospelassembly.com/event/precious-gems/2028-05-20/
LOCATION:Gospel Assembly Church\, 2535 Wise Rd.\, North Canton\, OH\, 44720\, United States
END:VEVENT
BEGIN:VEVENT
DTSTART;TZID=America/Detroit:20280617T130000
DTEND;TZID=America/Detroit:20280617T150000
DTSTAMP:20260420T053720
CREATED:20231214T143601Z
LAST-MODIFIED:20231214T143601Z
UID:10001533-1844859600-1844866800@greengospelassembly.com
SUMMARY:Precious Gems
DESCRIPTION:Precious Gems
URL:https://greengospelassembly.com/event/precious-gems/2028-06-17/
LOCATION:Gospel Assembly Church\, 2535 Wise Rd.\, North Canton\, OH\, 44720\, United States
END:VEVENT
BEGIN:VEVENT
DTSTART;TZID=America/Detroit:20280715T130000
DTEND;TZID=America/Detroit:20280715T150000
DTSTAMP:20260420T053720
CREATED:20231214T143601Z
LAST-MODIFIED:20231214T143601Z
UID:10001534-1847278800-1847286000@greengospelassembly.com
SUMMARY:Precious Gems
DESCRIPTION:Precious Gems
URL:https://greengospelassembly.com/event/precious-gems/2028-07-15/
LOCATION:Gospel Assembly Church\, 2535 Wise Rd.\, North Canton\, OH\, 44720\, United States
END:VEVENT
BEGIN:VEVENT
DTSTART;TZID=America/Detroit:20280819T130000
DTEND;TZID=America/Detroit:20280819T150000
DTSTAMP:20260420T053720
CREATED:20231214T143601Z
LAST-MODIFIED:20231214T143601Z
UID:10001535-1850302800-1850310000@greengospelassembly.com
SUMMARY:Precious Gems
DESCRIPTION:Precious Gems
URL:https://greengospelassembly.com/event/precious-gems/2028-08-19/
LOCATION:Gospel Assembly Church\, 2535 Wise Rd.\, North Canton\, OH\, 44720\, United States
END:VEVENT
BEGIN:VEVENT
DTSTART;TZID=America/Detroit:20280916T130000
DTEND;TZID=America/Detroit:20280916T150000
DTSTAMP:20260420T053720
CREATED:20231214T143601Z
LAST-MODIFIED:20231214T143601Z
UID:10001536-1852722000-1852729200@greengospelassembly.com
SUMMARY:Precious Gems
DESCRIPTION:Precious Gems
URL:https://greengospelassembly.com/event/precious-gems/2028-09-16/
LOCATION:Gospel Assembly Church\, 2535 Wise Rd.\, North Canton\, OH\, 44720\, United States
END:VEVENT
BEGIN:VEVENT
DTSTART;TZID=America/Detroit:20281021T130000
DTEND;TZID=America/Detroit:20281021T150000
DTSTAMP:20260420T053720
CREATED:20231214T143601Z
LAST-MODIFIED:20231214T143601Z
UID:10001537-1855746000-1855753200@greengospelassembly.com
SUMMARY:Precious Gems
DESCRIPTION:Precious Gems
URL:https://greengospelassembly.com/event/precious-gems/2028-10-21/
LOCATION:Gospel Assembly Church\, 2535 Wise Rd.\, North Canton\, OH\, 44720\, United States
END:VEVENT
BEGIN:VEVENT
DTSTART;TZID=America/Detroit:20281118T130000
DTEND;TZID=America/Detroit:20281118T150000
DTSTAMP:20260420T053720
CREATED:20231214T143601Z
LAST-MODIFIED:20231214T143601Z
UID:10001538-1858165200-1858172400@greengospelassembly.com
SUMMARY:Precious Gems
DESCRIPTION:Precious Gems
URL:https://greengospelassembly.com/event/precious-gems/2028-11-18/
LOCATION:Gospel Assembly Church\, 2535 Wise Rd.\, North Canton\, OH\, 44720\, United States
END:VEVENT
BEGIN:VEVENT
DTSTART;TZID=America/Detroit:20281216T130000
DTEND;TZID=America/Detroit:20281216T150000
DTSTAMP:20260420T053720
CREATED:20231214T143601Z
LAST-MODIFIED:20231214T143601Z
UID:10001950-1860584400-1860591600@greengospelassembly.com
SUMMARY:Precious Gems
DESCRIPTION:Precious Gems
URL:https://greengospelassembly.com/event/precious-gems/2028-12-16/
LOCATION:Gospel Assembly Church\, 2535 Wise Rd.\, North Canton\, OH\, 44720\, United States
END:VEVENT
BEGIN:VEVENT
DTSTART;TZID=America/Detroit:20290120T130000
DTEND;TZID=America/Detroit:20290120T150000
DTSTAMP:20260420T053720
CREATED:20231214T143601Z
LAST-MODIFIED:20231214T143601Z
UID:10001951-1863608400-1863615600@greengospelassembly.com
SUMMARY:Precious Gems
DESCRIPTION:Precious Gems
URL:https://greengospelassembly.com/event/precious-gems/2029-01-20/
LOCATION:Gospel Assembly Church\, 2535 Wise Rd.\, North Canton\, OH\, 44720\, United States
END:VEVENT
BEGIN:VEVENT
DTSTART;TZID=America/Detroit:20290217T130000
DTEND;TZID=America/Detroit:20290217T150000
DTSTAMP:20260420T053720
CREATED:20231214T143601Z
LAST-MODIFIED:20231214T143601Z
UID:10001952-1866027600-1866034800@greengospelassembly.com
SUMMARY:Precious Gems
DESCRIPTION:Precious Gems
URL:https://greengospelassembly.com/event/precious-gems/2029-02-17/
LOCATION:Gospel Assembly Church\, 2535 Wise Rd.\, North Canton\, OH\, 44720\, United States
END:VEVENT
BEGIN:VEVENT
DTSTART;TZID=America/Detroit:20290317T130000
DTEND;TZID=America/Detroit:20290317T150000
DTSTAMP:20260420T053720
CREATED:20231214T143601Z
LAST-MODIFIED:20231214T143601Z
UID:10001953-1868446800-1868454000@greengospelassembly.com
SUMMARY:Precious Gems
DESCRIPTION:Precious Gems
URL:https://greengospelassembly.com/event/precious-gems/2029-03-17/
LOCATION:Gospel Assembly Church\, 2535 Wise Rd.\, North Canton\, OH\, 44720\, United States
END:VEVENT
BEGIN:VEVENT
DTSTART;TZID=America/Detroit:20290421T130000
DTEND;TZID=America/Detroit:20290421T150000
DTSTAMP:20260420T053720
CREATED:20231214T143601Z
LAST-MODIFIED:20231214T143601Z
UID:10001954-1871470800-1871478000@greengospelassembly.com
SUMMARY:Precious Gems
DESCRIPTION:Precious Gems
URL:https://greengospelassembly.com/event/precious-gems/2029-04-21/
LOCATION:Gospel Assembly Church\, 2535 Wise Rd.\, North Canton\, OH\, 44720\, United States
END:VEVENT
BEGIN:VEVENT
DTSTART;TZID=America/Detroit:20290519T130000
DTEND;TZID=America/Detroit:20290519T150000
DTSTAMP:20260420T053720
CREATED:20231214T143601Z
LAST-MODIFIED:20231214T143601Z
UID:10001955-1873890000-1873897200@greengospelassembly.com
SUMMARY:Precious Gems
DESCRIPTION:Precious Gems
URL:https://greengospelassembly.com/event/precious-gems/2029-05-19/
LOCATION:Gospel Assembly Church\, 2535 Wise Rd.\, North Canton\, OH\, 44720\, United States
END:VEVENT
BEGIN:VEVENT
DTSTART;TZID=America/Detroit:20290616T130000
DTEND;TZID=America/Detroit:20290616T150000
DTSTAMP:20260420T053720
CREATED:20231214T143601Z
LAST-MODIFIED:20231214T143601Z
UID:10001956-1876309200-1876316400@greengospelassembly.com
SUMMARY:Precious Gems
DESCRIPTION:Precious Gems
URL:https://greengospelassembly.com/event/precious-gems/2029-06-16/
LOCATION:Gospel Assembly Church\, 2535 Wise Rd.\, North Canton\, OH\, 44720\, United States
END:VEVENT
BEGIN:VEVENT
DTSTART;TZID=America/Detroit:20290721T130000
DTEND;TZID=America/Detroit:20290721T150000
DTSTAMP:20260420T053720
CREATED:20231214T143601Z
LAST-MODIFIED:20231214T143601Z
UID:10001957-1879333200-1879340400@greengospelassembly.com
SUMMARY:Precious Gems
DESCRIPTION:Precious Gems
URL:https://greengospelassembly.com/event/precious-gems/2029-07-21/
LOCATION:Gospel Assembly Church\, 2535 Wise Rd.\, North Canton\, OH\, 44720\, United States
END:VEVENT
BEGIN:VEVENT
DTSTART;TZID=America/Detroit:20290818T130000
DTEND;TZID=America/Detroit:20290818T150000
DTSTAMP:20260420T053720
CREATED:20231214T143601Z
LAST-MODIFIED:20231214T143601Z
UID:10001958-1881752400-1881759600@greengospelassembly.com
SUMMARY:Precious Gems
DESCRIPTION:Precious Gems
URL:https://greengospelassembly.com/event/precious-gems/2029-08-18/
LOCATION:Gospel Assembly Church\, 2535 Wise Rd.\, North Canton\, OH\, 44720\, United States
END:VEVENT
BEGIN:VEVENT
DTSTART;TZID=America/Detroit:20290915T130000
DTEND;TZID=America/Detroit:20290915T150000
DTSTAMP:20260420T053720
CREATED:20231214T143601Z
LAST-MODIFIED:20231214T143601Z
UID:10001959-1884171600-1884178800@greengospelassembly.com
SUMMARY:Precious Gems
DESCRIPTION:Precious Gems
URL:https://greengospelassembly.com/event/precious-gems/2029-09-15/
LOCATION:Gospel Assembly Church\, 2535 Wise Rd.\, North Canton\, OH\, 44720\, United States
END:VEVENT
BEGIN:VEVENT
DTSTART;TZID=America/Detroit:20291020T130000
DTEND;TZID=America/Detroit:20291020T150000
DTSTAMP:20260420T053720
CREATED:20231214T143601Z
LAST-MODIFIED:20231214T143601Z
UID:10001960-1887195600-1887202800@greengospelassembly.com
SUMMARY:Precious Gems
DESCRIPTION:Precious Gems
URL:https://greengospelassembly.com/event/precious-gems/2029-10-20/
LOCATION:Gospel Assembly Church\, 2535 Wise Rd.\, North Canton\, OH\, 44720\, United States
END:VEVENT
BEGIN:VEVENT
DTSTART;TZID=America/Detroit:20291117T130000
DTEND;TZID=America/Detroit:20291117T150000
DTSTAMP:20260420T053720
CREATED:20231214T143601Z
LAST-MODIFIED:20231214T143601Z
UID:10001961-1889614800-1889622000@greengospelassembly.com
SUMMARY:Precious Gems
DESCRIPTION:Precious Gems
URL:https://greengospelassembly.com/event/precious-gems/2029-11-17/
LOCATION:Gospel Assembly Church\, 2535 Wise Rd.\, North Canton\, OH\, 44720\, United States
END:VEVENT
BEGIN:VEVENT
DTSTART;TZID=America/Detroit:20291215T130000
DTEND;TZID=America/Detroit:20291215T150000
DTSTAMP:20260420T053720
CREATED:20231214T143601Z
LAST-MODIFIED:20231214T143601Z
UID:10001962-1892034000-1892041200@greengospelassembly.com
SUMMARY:Precious Gems
DESCRIPTION:Precious Gems
URL:https://greengospelassembly.com/event/precious-gems/2029-12-15/
LOCATION:Gospel Assembly Church\, 2535 Wise Rd.\, North Canton\, OH\, 44720\, United States
END:VEVENT
BEGIN:VEVENT
DTSTART;TZID=America/Detroit:20300119T130000
DTEND;TZID=America/Detroit:20300119T150000
DTSTAMP:20260420T053720
CREATED:20231214T143601Z
LAST-MODIFIED:20231214T143601Z
UID:10001963-1895058000-1895065200@greengospelassembly.com
SUMMARY:Precious Gems
DESCRIPTION:Precious Gems
URL:https://greengospelassembly.com/event/precious-gems/2030-01-19/
LOCATION:Gospel Assembly Church\, 2535 Wise Rd.\, North Canton\, OH\, 44720\, United States
END:VEVENT
BEGIN:VEVENT
DTSTART;TZID=America/Detroit:20300216T130000
DTEND;TZID=America/Detroit:20300216T150000
DTSTAMP:20260420T053720
CREATED:20231214T143601Z
LAST-MODIFIED:20231214T143601Z
UID:10001964-1897477200-1897484400@greengospelassembly.com
SUMMARY:Precious Gems
DESCRIPTION:Precious Gems
URL:https://greengospelassembly.com/event/precious-gems/2030-02-16/
LOCATION:Gospel Assembly Church\, 2535 Wise Rd.\, North Canton\, OH\, 44720\, United States
END:VEVENT
BEGIN:VEVENT
DTSTART;TZID=America/Detroit:20300316T130000
DTEND;TZID=America/Detroit:20300316T150000
DTSTAMP:20260420T053720
CREATED:20231214T143601Z
LAST-MODIFIED:20231214T143601Z
UID:10001965-1899896400-1899903600@greengospelassembly.com
SUMMARY:Precious Gems
DESCRIPTION:Precious Gems
URL:https://greengospelassembly.com/event/precious-gems/2030-03-16/
LOCATION:Gospel Assembly Church\, 2535 Wise Rd.\, North Canton\, OH\, 44720\, United States
END:VEVENT
BEGIN:VEVENT
DTSTART;TZID=America/Detroit:20300420T130000
DTEND;TZID=America/Detroit:20300420T150000
DTSTAMP:20260420T053720
CREATED:20231214T143601Z
LAST-MODIFIED:20231214T143601Z
UID:10002176-1902920400-1902927600@greengospelassembly.com
SUMMARY:Precious Gems
DESCRIPTION:Precious Gems
URL:https://greengospelassembly.com/event/precious-gems/2030-04-20/
LOCATION:Gospel Assembly Church\, 2535 Wise Rd.\, North Canton\, OH\, 44720\, United States
END:VEVENT
BEGIN:VEVENT
DTSTART;TZID=America/Detroit:20300518T130000
DTEND;TZID=America/Detroit:20300518T150000
DTSTAMP:20260420T053720
CREATED:20231214T143601Z
LAST-MODIFIED:20231214T143601Z
UID:10002177-1905339600-1905346800@greengospelassembly.com
SUMMARY:Precious Gems
DESCRIPTION:Precious Gems
URL:https://greengospelassembly.com/event/precious-gems/2030-05-18/
LOCATION:Gospel Assembly Church\, 2535 Wise Rd.\, North Canton\, OH\, 44720\, United States
END:VEVENT
BEGIN:VEVENT
DTSTART;TZID=America/Detroit:20300615T130000
DTEND;TZID=America/Detroit:20300615T150000
DTSTAMP:20260420T053720
CREATED:20231214T143601Z
LAST-MODIFIED:20231214T143601Z
UID:10002178-1907758800-1907766000@greengospelassembly.com
SUMMARY:Precious Gems
DESCRIPTION:Precious Gems
URL:https://greengospelassembly.com/event/precious-gems/2030-06-15/
LOCATION:Gospel Assembly Church\, 2535 Wise Rd.\, North Canton\, OH\, 44720\, United States
END:VEVENT
END:VCALENDAR